Workbook

Sheet Tasks_CPM
A1: ВЕС — Матриця робіт (CPM) + критичний шлях (шаблон)
D2: Правило | E2: Задачі мають бути у порядку залежностей (попередники вище).
C3: Дата старту проєкту (вхід) | D3: 46023
C4: Горизонт (місяців, вхід) | D4: 48
C5: Фініш проєкту (місяць №, розрах.) | D5: =MAX($J$8:$J$200) -> 48
C6: Фініш проєкту (дата, розрах.) | D6: =EDATE($D$3,$D$5-1) -> 47453
A7: ID | B7: Фаза | C7: Задача | D7: Тривалість (міс) | E7: Попер.1 (ID) | F7: Попер.2 (ID) | G7: Попер.3 (ID) | H7: Власник (вхід) | I7: ES (ранній старт) | J7: EF (раннє закінч.) | K7: LS (пізній старт) | L7: LF (пізнє закінч.) | M7: Запас (float) | N7: Критична? | O7: Старт (дата) | P7: Фініш (дата)
A8: 1 | B8: Ініціація | C8: Strategy & screening | D8: 2 | I8: =IF($A8="","",MAX(1,1+MAX(IF($E8="",0,INDEX($J$8:$J$8,MATCH($E8,$A$8:$A$8,0))+0),IF($F8="",0,INDEX($J$8:$J$8,MATCH($F8,$A$8:$A$8,0))+0),IF($G8="",0,INDEX($J$8:$J$8,MATCH($G8,$A$8:$A$8,0))+0)))) -> 1 | J8: =IF($A8="","",$I8+$D8-1) -> 2 | K8: =IF($A8="","",$L8-$D8+1) -> 47 | L8: =IF($A8="","",IF(MIN(IF(IFERROR(_xludf.MINIFS($K$9:$K$200,$E$9:$E$200,$A8)+0,0)=0,9999,IFERROR(_xludf.MINIFS($K$9:$K$200,$E$9:$E$200,$A8)+0,0)),IF(IFERROR(_xludf.MINIFS($K$9:$K$200,$F$9:$F$200,$A8)+0,0)=0,9999,IFERROR(_xludf.MINIFS($K$9:$K$200,$F$9:$F$200,$A8)+0,0)),IF(IFERROR(_xludf.MINIFS($K$9:$K$200,$G$9:$G$200,$A8)+0,0)=0,9999,IFERROR(_xludf.MINIFS($K$9:$K$200,$G$9:$G$200,$A8)+0,0)))=9999,$D$5,MIN(IF(IFERROR(_xludf.MINIFS($K$9:$K$200,$E$9:$E$200,$A8)+0,0)=0,9999,IFERROR(_xludf.MINIFS($K$9:$K$200,$E$9:$E$200,$A8)+0,0)),IF(IFERROR(_xludf.MINIFS($K$9:$K$200,$F$9:$F$200,$A8)+0,0)=0,9999,IFERROR(_xludf.MINIFS($K$9:$K$200,$F$9:$F$200,$A8)+0,0)),IF(IFERROR(_xludf.MINIFS($K$9:$K$200,$G$9:$G$200,$A8)+0,0)=0,9999,IFERROR(_xludf.MINIFS($K$9:$K$200,$G$9:$G$200,$A8)+0,0)))-1)) -> 48 | M8: =IF($A8="","",$K8-$I8) -> 46 | N8: =IF($A8="","",IF($M8=0,"YES","")) | O8: =IF($A8="","",EDATE($D$3,$I8-1)) -> 46023 | P8: =IF($A8="","",EDATE($D$3,$J8-1)) -> 46054
A9: 2 | B9: Ініціація | C9: Grid pre-feasibility / capacity check | D9: 2 | E9: 1 | I9: =IF($A9="","",MAX(1,1+MAX(IF($E9="",0,INDEX($J$8:$J$8,MATCH($E9,$A$8:$A$8,0))+0),IF($F9="",0,INDEX($J$8:$J$8,MATCH($F9,$A$8:$A$8,0))+0),IF($G9="",0,INDEX($J$8:$J$8,MATCH($G9,$A$8:$A$8,0))+0)))) -> 3 | J9: =IF($A9="","",$I9+$D9-1) -> 4 | K9: =IF($A9="","",$L9-$D9+1) -> 47 | L9: =IF($A9="","",IF(MIN(IF(IFERROR(_xludf.MINIFS($K$10:$K$200,$E$10:$E$200,$A9)+0,0)=0,9999,IFERROR(_xludf.MINIFS($K$10:$K$200,$E$10:$E$200,$A9)+0,0)),IF(IFERROR(_xludf.MINIFS($K$10:$K$200,$F$10:$F$200,$A9)+0,0)=0,9999,IFERROR(_xludf.MINIFS($K$10:$K$200,$F$10:$F$200,$A9)+0,0)),IF(IFERROR(_xludf.MINIFS($K$10:$K$200,$G$10:$G$200,$A9)+0,0)=0,9999,IFERROR(_xludf.MINIFS($K$10:$K$200,$G$10:$G$200,$A9)+0,0)))=9999,$D$5,MIN(IF(IFERROR(_xludf.MINIFS($K$10:$K$200,$E$10:$E$200,$A9)+0,0)=0,9999,IFERROR(_xludf.MINIFS($K$10:$K$200,$E$10:$E$200,$A9)+0,0)),IF(IFERROR(_xludf.MINIFS($K$10:$K$200,$F$10:$F$200,$A9)+0,0)=0,9999,IFERROR(_xludf.MINIFS($K$10:$K$200,$F$10:$F$200,$A9)+0,0)),IF(IFERROR(_xludf.MINIFS($K$10:$K$200,$G$10:$G$200,$A9)+0,0)=0,9999,IFERROR(_xludf.MINIFS($K$10:$K$200,$G$10:$G$200,$A9)+0,0)))-1)) -> 48 | M9: =IF($A9="","",$K9-$I9) -> 44 | N9: =IF($A9="","",IF($M9=0,"YES","")) | O9: =IF($A9="","",EDATE($D$3,$I9-1)) -> 46082 | P9: =IF($A9="","",EDATE($D$3,$J9-1)) -> 46113
A10: 3 | B10: Земля та виміри | C10: Land search & stakeholder mapping | D10: 4 | E10: 1 | I10: =IF($A10="","",MAX(1,1+MAX(IF($E10="",0,INDEX($J$8:$J$9,MATCH($E10,$A$8:$A$9,0))+0),IF($F10="",0,INDEX($J$8:$J$9,MATCH($F10,$A$8:$A$9,0))+0),IF($G10="",0,INDEX($J$8:$J$9,MATCH($G10,$A$8:$A$9,0))+0)))) -> 3 | J10: =IF($A10="","",$I10+$D10-1) -> 6 | K10: =IF($A10="","",$L10-$D10+1) -> 45 | L10: =IF($A10="","",IF(MIN(IF(IFERROR(_xludf.MINIFS($K$11:$K$200,$E$11:$E$200,$A10)+0,0)=0,9999,IFERROR(_xludf.MINIFS($K$11:$K$200,$E$11:$E$200,$A10)+0,0)),IF(IFERROR(_xludf.MINIFS($K$11:$K$200,$F$11:$F$200,$A10)+0,0)=0,9999,IFERROR(_xludf.MINIFS($K$11:$K$200,$F$11:$F$200,$A10)+0,0)),IF(IFERROR(_xludf.MINIFS($K$11:$K$200,$G$11:$G$200,$A10)+0,0)=0,9999,IFERROR(_xludf.MINIFS($K$11:$K$200,$G$11:$G$200,$A10)+0,0)))=9999,$D$5,MIN(IF(IFERROR(_xludf.MINIFS($K$11:$K$200,$E$11:$E$200,$A10)+0,0)=0,9999,IFERROR(_xludf.MINIFS($K$11:$K$200,$E$11:$E$200,$A10)+0,0)),IF(IFERROR(_xludf.MINIFS($K$11:$K$200,$F$11:$F$200,$A10)+0,0)=0,9999,IFERROR(_xludf.MINIFS($K$11:$K$200,$F$11:$F$200,$A10)+0,0)),IF(IFERROR(_xludf.MINIFS($K$11:$K$200,$G$11:$G$200,$A10)+0,0)=0,9999,IFERROR(_xludf.MINIFS($K$11:$K$200,$G$11:$G$200,$A10)+0,0)))-1)) -> 48 | M10: =IF($A10="","",$K10-$I10) -> 42 | N10: =IF($A10="","",IF($M10=0,"YES","")) | O10: =IF($A10="","",EDATE($D$3,$I10-1)) -> 46082 | P10: =IF($A10="","",EDATE($D$3,$J10-1)) -> 46174
A11: 4 | B11: Земля та виміри | C11: Land control (leases/servitudes/superficies) | D11: 5 | E11: 3 | I11: =IF($A11="","",MAX(1,1+MAX(IF($E11="",0,INDEX($J$8:$J$10,MATCH($E11,$A$8:$A$10,0))+0),IF($F11="",0,INDEX($J$8:$J$10,MATCH($F11,$A$8:$A$10,0))+0),IF($G11="",0,INDEX($J$8:$J$10,MATCH($G11,$A$8:$A$10,0))+0)))) -> 7 | J11: =IF($A11="","",$I11+$D11-1) -> 11 | K11: =IF($A11="","",$L11-$D11+1) -> 44 | L11: =IF($A11="","",IF(MIN(IF(IFERROR(_xludf.MINIFS($K$12:$K$200,$E$12:$E$200,$A11)+0,0)=0,9999,IFERROR(_xludf.MINIFS($K$12:$K$200,$E$12:$E$200,$A11)+0,0)),IF(IFERROR(_xludf.MINIFS($K$12:$K$200,$F$12:$F$200,$A11)+0,0)=0,9999,IFERROR(_xludf.MINIFS($K$12:$K$200,$F$12:$F$200,$A11)+0,0)),IF(IFERROR(_xludf.MINIFS($K$12:$K$200,$G$12:$G$200,$A11)+0,0)=0,9999,IFERROR(_xludf.MINIFS($K$12:$K$200,$G$12:$G$200,$A11)+0,0)))=9999,$D$5,MIN(IF(IFERROR(_xludf.MINIFS($K$12:$K$200,$E$12:$E$200,$A11)+0,0)=0,9999,IFERROR(_xludf.MINIFS($K$12:$K$200,$E$12:$E$200,$A11)+0,0)),IF(IFERROR(_xludf.MINIFS($K$12:$K$200,$F$12:$F$200,$A11)+0,0)=0,9999,IFERROR(_xludf.MINIFS($K$12:$K$200,$F$12:$F$200,$A11)+0,0)),IF(IFERROR(_xludf.MINIFS($K$12:$K$200,$G$12:$G$200,$A11)+0,0)=0,9999,IFERROR(_xludf.MINIFS($K$12:$K$200,$G$12:$G$200,$A11)+0,0)))-1)) -> 48 | M11: =IF($A11="","",$K11-$I11) -> 37 | N11: =IF($A11="","",IF($M11=0,"YES","")) | O11: =IF($A11="","",EDATE($D$3,$I11-1)) -> 46204 | P11: =IF($A11="","",EDATE($D$3,$J11-1)) -> 46327
A12: 5 | B12: Земля та виміри | C12: Wind measurement setup (mast/LiDAR) | D12: 2 | E12: 3 | I12: =IF($A12="","",MAX(1,1+MAX(IF($E12="",0,INDEX($J$8:$J$11,MATCH($E12,$A$8:$A$11,0))+0),IF($F12="",0,INDEX($J$8:$J$11,MATCH($F12,$A$8:$A$11,0))+0),IF($G12="",0,INDEX($J$8:$J$11,MATCH($G12,$A$8:$A$11,0))+0)))) -> 7 | J12: =IF($A12="","",$I12+$D12-1) -> 8 | K12: =IF($A12="","",$L12-$D12+1) -> 47 | L12: =IF($A12="","",IF(MIN(IF(IFERROR(_xludf.MINIFS($K$13:$K$200,$E$13:$E$200,$A12)+0,0)=0,9999,IFERROR(_xludf.MINIFS($K$13:$K$200,$E$13:$E$200,$A12)+0,0)),IF(IFERROR(_xludf.MINIFS($K$13:$K$200,$F$13:$F$200,$A12)+0,0)=0,9999,IFERROR(_xludf.MINIFS($K$13:$K$200,$F$13:$F$200,$A12)+0,0)),IF(IFERROR(_xludf.MINIFS($K$13:$K$200,$G$13:$G$200,$A12)+0,0)=0,9999,IFERROR(_xludf.MINIFS($K$13:$K$200,$G$13:$G$200,$A12)+0,0)))=9999,$D$5,MIN(IF(IFERROR(_xludf.MINIFS($K$13:$K$200,$E$13:$E$200,$A12)+0,0)=0,9999,IFERROR(_xludf.MINIFS($K$13:$K$200,$E$13:$E$200,$A12)+0,0)),IF(IFERROR(_xludf.MINIFS($K$13:$K$200,$F$13:$F$200,$A12)+0,0)=0,9999,IFERROR(_xludf.MINIFS($K$13:$K$200,$F$13:$F$200,$A12)+0,0)),IF(IFERROR(_xludf.MINIFS($K$13:$K$200,$G$13:$G$200,$A12)+0,0)=0,9999,IFERROR(_xludf.MINIFS($K$13:$K$200,$G$13:$G$200,$A12)+0,0)))-1)) -> 48 | M12: =IF($A12="","",$K12-$I12) -> 40 | N12: =IF($A12="","",IF($M12=0,"YES","")) | O12: =IF($A12="","",EDATE($D$3,$I12-1)) -> 46204 | P12: =IF($A12="","",EDATE($D$3,$J12-1)) -> 46235
A13: 6 | B13: Вітроресурс | C13: Wind measurement campaign | D13: 12 | E13: 5 | I13: =IF($A13="","",MAX(1,1+MAX(IF($E13="",0,INDEX($J$8:$J$12,MATCH($E13,$A$8:$A$12,0))+0),IF($F13="",0,INDEX($J$8:$J$12,MATCH($F13,$A$8:$A$12,0))+0),IF($G13="",0,INDEX($J$8:$J$12,MATCH($G13,$A$8:$A$12,0))+0)))) -> 9 | J13: =IF($A13="","",$I13+$D13-1) -> 20 | K13: =IF($A13="","",$L13-$D13+1) -> 37 | L13: =IF($A13="","",IF(MIN(IF(IFERROR(_xludf.MINIFS($K$14:$K$200,$E$14:$E$200,$A13)+0,0)=0,9999,IFERROR(_xludf.MINIFS($K$14:$K$200,$E$14:$E$200,$A13)+0,0)),IF(IFERROR(_xludf.MINIFS($K$14:$K$200,$F$14:$F$200,$A13)+0,0)=0,9999,IFERROR(_xludf.MINIFS($K$14:$K$200,$F$14:$F$200,$A13)+0,0)),IF(IFERROR(_xludf.MINIFS($K$14:$K$200,$G$14:$G$200,$A13)+0,0)=0,9999,IFERROR(_xludf.MINIFS($K$14:$K$200,$G$14:$G$200,$A13)+0,0)))=9999,$D$5,MIN(IF(IFERROR(_xludf.MINIFS($K$14:$K$200,$E$14:$E$200,$A13)+0,0)=0,9999,IFERROR(_xludf.MINIFS($K$14:$K$200,$E$14:$E$200,$A13)+0,0)),IF(IFERROR(_xludf.MINIFS($K$14:$K$200,$F$14:$F$200,$A13)+0,0)=0,9999,IFERROR(_xludf.MINIFS($K$14:$K$200,$F$14:$F$200,$A13)+0,0)),IF(IFERROR(_xludf.MINIFS($K$14:$K$200,$G$14:$G$200,$A13)+0,0)=0,9999,IFERROR(_xludf.MINIFS($K$14:$K$200,$G$14:$G$200,$A13)+0,0)))-1)) -> 48 | M13: =IF($A13="","",$K13-$I13) -> 28 | N13: =IF($A13="","",IF($M13=0,"YES","")) | O13: =IF($A13="","",EDATE($D$3,$I13-1)) -> 46266 | P13: =IF($A13="","",EDATE($D$3,$J13-1)) -> 46600
A14: 7 | B14: Вітроресурс | C14: Bankable Energy Yield Assessment (P50/P90) | D14: 2 | E14: 6 | I14: =IF($A14="","",MAX(1,1+MAX(IF($E14="",0,INDEX($J$8:$J$13,MATCH($E14,$A$8:$A$13,0))+0),IF($F14="",0,INDEX($J$8:$J$13,MATCH($F14,$A$8:$A$13,0))+0),IF($G14="",0,INDEX($J$8:$J$13,MATCH($G14,$A$8:$A$13,0))+0)))) -> 21 | J14: =IF($A14="","",$I14+$D14-1) -> 22 | K14: =IF($A14="","",$L14-$D14+1) -> 47 | L14: =IF($A14="","",IF(MIN(IF(IFERROR(_xludf.MINIFS($K$15:$K$200,$E$15:$E$200,$A14)+0,0)=0,9999,IFERROR(_xludf.MINIFS($K$15:$K$200,$E$15:$E$200,$A14)+0,0)),IF(IFERROR(_xludf.MINIFS($K$15:$K$200,$F$15:$F$200,$A14)+0,0)=0,9999,IFERROR(_xludf.MINIFS($K$15:$K$200,$F$15:$F$200,$A14)+0,0)),IF(IFERROR(_xludf.MINIFS($K$15:$K$200,$G$15:$G$200,$A14)+0,0)=0,9999,IFERROR(_xludf.MINIFS($K$15:$K$200,$G$15:$G$200,$A14)+0,0)))=9999,$D$5,MIN(IF(IFERROR(_xludf.MINIFS($K$15:$K$200,$E$15:$E$200,$A14)+0,0)=0,9999,IFERROR(_xludf.MINIFS($K$15:$K$200,$E$15:$E$200,$A14)+0,0)),IF(IFERROR(_xludf.MINIFS($K$15:$K$200,$F$15:$F$200,$A14)+0,0)=0,9999,IFERROR(_xludf.MINIFS($K$15:$K$200,$F$15:$F$200,$A14)+0,0)),IF(IFERROR(_xludf.MINIFS($K$15:$K$200,$G$15:$G$200,$A14)+0,0)=0,9999,IFERROR(_xludf.MINIFS($K$15:$K$200,$G$15:$G$200,$A14)+0,0)))-1)) -> 48 | M14: =IF($A14="","",$K14-$I14) -> 26 | N14: =IF($A14="","",IF($M14=0,"YES","")) | O14: =IF($A14="","",EDATE($D$3,$I14-1)) -> 46631 | P14: =IF($A14="","",EDATE($D$3,$J14-1)) -> 46661
A15: 8 | B15: Дозволи (ОВД) | C15: Environmental baseline studies | D15: 2 | E15: 3 | I15: =IF($A15="","",MAX(1,1+MAX(IF($E15="",0,INDEX($J$8:$J$14,MATCH($E15,$A$8:$A$14,0))+0),IF($F15="",0,INDEX($J$8:$J$14,MATCH($F15,$A$8:$A$14,0))+0),IF($G15="",0,INDEX($J$8:$J$14,MATCH($G15,$A$8:$A$14,0))+0)))) -> 7 | J15: =IF($A15="","",$I15+$D15-1) -> 8 | K15: =IF($A15="","",$L15-$D15+1) -> 47 | L15: =IF($A15="","",IF(MIN(IF(IFERROR(_xludf.MINIFS($K$16:$K$200,$E$16:$E$200,$A15)+0,0)=0,9999,IFERROR(_xludf.MINIFS($K$16:$K$200,$E$16:$E$200,$A15)+0,0)),IF(IFERROR(_xludf.MINIFS($K$16:$K$200,$F$16:$F$200,$A15)+0,0)=0,9999,IFERROR(_xludf.MINIFS($K$16:$K$200,$F$16:$F$200,$A15)+0,0)),IF(IFERROR(_xludf.MINIFS($K$16:$K$200,$G$16:$G$200,$A15)+0,0)=0,9999,IFERROR(_xludf.MINIFS($K$16:$K$200,$G$16:$G$200,$A15)+0,0)))=9999,$D$5,MIN(IF(IFERROR(_xludf.MINIFS($K$16:$K$200,$E$16:$E$200,$A15)+0,0)=0,9999,IFERROR(_xludf.MINIFS($K$16:$K$200,$E$16:$E$200,$A15)+0,0)),IF(IFERROR(_xludf.MINIFS($K$16:$K$200,$F$16:$F$200,$A15)+0,0)=0,9999,IFERROR(_xludf.MINIFS($K$16:$K$200,$F$16:$F$200,$A15)+0,0)),IF(IFERROR(_xludf.MINIFS($K$16:$K$200,$G$16:$G$200,$A15)+0,0)=0,9999,IFERROR(_xludf.MINIFS($K$16:$K$200,$G$16:$G$200,$A15)+0,0)))-1)) -> 48 | M15: =IF($A15="","",$K15-$I15) -> 40 | N15: =IF($A15="","",IF($M15=0,"YES","")) | O15: =IF($A15="","",EDATE($D$3,$I15-1)) -> 46204 | P15: =IF($A15="","",EDATE($D$3,$J15-1)) -> 46235
A16: 9 | B16: Дозволи (ОВД) | C16: OVD / EIA process (incl. hearings) | D16: 6 | E16: 8 | I16: =IF($A16="","",MAX(1,1+MAX(IF($E16="",0,INDEX($J$8:$J$15,MATCH($E16,$A$8:$A$15,0))+0),IF($F16="",0,INDEX($J$8:$J$15,MATCH($F16,$A$8:$A$15,0))+0),IF($G16="",0,INDEX($J$8:$J$15,MATCH($G16,$A$8:$A$15,0))+0)))) -> 9 | J16: =IF($A16="","",$I16+$D16-1) -> 14 | K16: =IF($A16="","",$L16-$D16+1) -> 43 | L16: =IF($A16="","",IF(MIN(IF(IFERROR(_xludf.MINIFS($K$17:$K$200,$E$17:$E$200,$A16)+0,0)=0,9999,IFERROR(_xludf.MINIFS($K$17:$K$200,$E$17:$E$200,$A16)+0,0)),IF(IFERROR(_xludf.MINIFS($K$17:$K$200,$F$17:$F$200,$A16)+0,0)=0,9999,IFERROR(_xludf.MINIFS($K$17:$K$200,$F$17:$F$200,$A16)+0,0)),IF(IFERROR(_xludf.MINIFS($K$17:$K$200,$G$17:$G$200,$A16)+0,0)=0,9999,IFERROR(_xludf.MINIFS($K$17:$K$200,$G$17:$G$200,$A16)+0,0)))=9999,$D$5,MIN(IF(IFERROR(_xludf.MINIFS($K$17:$K$200,$E$17:$E$200,$A16)+0,0)=0,9999,IFERROR(_xludf.MINIFS($K$17:$K$200,$E$17:$E$200,$A16)+0,0)),IF(IFERROR(_xludf.MINIFS($K$17:$K$200,$F$17:$F$200,$A16)+0,0)=0,9999,IFERROR(_xludf.MINIFS($K$17:$K$200,$F$17:$F$200,$A16)+0,0)),IF(IFERROR(_xludf.MINIFS($K$17:$K$200,$G$17:$G$200,$A16)+0,0)=0,9999,IFERROR(_xludf.MINIFS($K$17:$K$200,$G$17:$G$200,$A16)+0,0)))-1)) -> 48 | M16: =IF($A16="","",$K16-$I16) -> 34 | N16: =IF($A16="","",IF($M16=0,"YES","")) | O16: =IF($A16="","",EDATE($D$3,$I16-1)) -> 46266 | P16: =IF($A16="","",EDATE($D$3,$J16-1)) -> 46419
A17: 10 | B17: Приєднання до мережі | C17: Connection application & Technical Conditions (TU) | D17: 5 | E17: 2 | F17: 3 | I17: =IF($A17="","",MAX(1,1+MAX(IF($E17="",0,INDEX($J$8:$J$16,MATCH($E17,$A$8:$A$16,0))+0),IF($F17="",0,INDEX($J$8:$J$16,MATCH($F17,$A$8:$A$16,0))+0),IF($G17="",0,INDEX($J$8:$J$16,MATCH($G17,$A$8:$A$16,0))+0)))) -> 7 | J17: =IF($A17="","",$I17+$D17-1) -> 11 | K17: =IF($A17="","",$L17-$D17+1) -> 44 | L17: =IF($A17="","",IF(MIN(IF(IFERROR(_xludf.MINIFS($K$18:$K$200,$E$18:$E$200,$A17)+0,0)=0,9999,IFERROR(_xludf.MINIFS($K$18:$K$200,$E$18:$E$200,$A17)+0,0)),IF(IFERROR(_xludf.MINIFS($K$18:$K$200,$F$18:$F$200,$A17)+0,0)=0,9999,IFERROR(_xludf.MINIFS($K$18:$K$200,$F$18:$F$200,$A17)+0,0)),IF(IFERROR(_xludf.MINIFS($K$18:$K$200,$G$18:$G$200,$A17)+0,0)=0,9999,IFERROR(_xludf.MINIFS($K$18:$K$200,$G$18:$G$200,$A17)+0,0)))=9999,$D$5,MIN(IF(IFERROR(_xludf.MINIFS($K$18:$K$200,$E$18:$E$200,$A17)+0,0)=0,9999,IFERROR(_xludf.MINIFS($K$18:$K$200,$E$18:$E$200,$A17)+0,0)),IF(IFERROR(_xludf.MINIFS($K$18:$K$200,$F$18:$F$200,$A17)+0,0)=0,9999,IFERROR(_xludf.MINIFS($K$18:$K$200,$F$18:$F$200,$A17)+0,0)),IF(IFERROR(_xludf.MINIFS($K$18:$K$200,$G$18:$G$200,$A17)+0,0)=0,9999,IFERROR(_xludf.MINIFS($K$18:$K$200,$G$18:$G$200,$A17)+0,0)))-1)) -> 48 | M17: =IF($A17="","",$K17-$I17) -> 37 | N17: =IF($A17="","",IF($M17=0,"YES","")) | O17: =IF($A17="","",EDATE($D$3,$I17-1)) -> 46204 | P17: =IF($A17="","",EDATE($D$3,$J17-1)) -> 46327
A18: 11 | B18: Приєднання до мережі | C18: Connection concept design (single-line, PCC) | D18: 3 | E18: 10 | I18: =IF($A18="","",MAX(1,1+MAX(IF($E18="",0,INDEX($J$8:$J$17,MATCH($E18,$A$8:$A$17,0))+0),IF($F18="",0,INDEX($J$8:$J$17,MATCH($F18,$A$8:$A$17,0))+0),IF($G18="",0,INDEX($J$8:$J$17,MATCH($G18,$A$8:$A$17,0))+0)))) -> 12 | J18: =IF($A18="","",$I18+$D18-1) -> 14 | K18: =IF($A18="","",$L18-$D18+1) -> 46 | L18: =IF($A18="","",IF(MIN(IF(IFERROR(_xludf.MINIFS($K$19:$K$200,$E$19:$E$200,$A18)+0,0)=0,9999,IFERROR(_xludf.MINIFS($K$19:$K$200,$E$19:$E$200,$A18)+0,0)),IF(IFERROR(_xludf.MINIFS($K$19:$K$200,$F$19:$F$200,$A18)+0,0)=0,9999,IFERROR(_xludf.MINIFS($K$19:$K$200,$F$19:$F$200,$A18)+0,0)),IF(IFERROR(_xludf.MINIFS($K$19:$K$200,$G$19:$G$200,$A18)+0,0)=0,9999,IFERROR(_xludf.MINIFS($K$19:$K$200,$G$19:$G$200,$A18)+0,0)))=9999,$D$5,MIN(IF(IFERROR(_xludf.MINIFS($K$19:$K$200,$E$19:$E$200,$A18)+0,0)=0,9999,IFERROR(_xludf.MINIFS($K$19:$K$200,$E$19:$E$200,$A18)+0,0)),IF(IFERROR(_xludf.MINIFS($K$19:$K$200,$F$19:$F$200,$A18)+0,0)=0,9999,IFERROR(_xludf.MINIFS($K$19:$K$200,$F$19:$F$200,$A18)+0,0)),IF(IFERROR(_xludf.MINIFS($K$19:$K$200,$G$19:$G$200,$A18)+0,0)=0,9999,IFERROR(_xludf.MINIFS($K$19:$K$200,$G$19:$G$200,$A18)+0,0)))-1)) -> 48 | M18: =IF($A18="","",$K18-$I18) -> 34 | N18: =IF($A18="","",IF($M18=0,"YES","")) | O18: =IF($A18="","",EDATE($D$3,$I18-1)) -> 46357 | P18: =IF($A18="","",EDATE($D$3,$J18-1)) -> 46419
A19: 12 | B19: Проєктування | C19: Concept layout & pre-FEED design | D19: 4 | E19: 5 | F19: 10 | I19: =IF($A19="","",MAX(1,1+MAX(IF($E19="",0,INDEX($J$8:$J$18,MATCH($E19,$A$8:$A$18,0))+0),IF($F19="",0,INDEX($J$8:$J$18,MATCH($F19,$A$8:$A$18,0))+0),IF($G19="",0,INDEX($J$8:$J$18,MATCH($G19,$A$8:$A$18,0))+0)))) -> 12 | J19: =IF($A19="","",$I19+$D19-1) -> 15 | K19: =IF($A19="","",$L19-$D19+1) -> 45 | L19: =IF($A19="","",IF(MIN(IF(IFERROR(_xludf.MINIFS($K$20:$K$200,$E$20:$E$200,$A19)+0,0)=0,9999,IFERROR(_xludf.MINIFS($K$20:$K$200,$E$20:$E$200,$A19)+0,0)),IF(IFERROR(_xludf.MINIFS($K$20:$K$200,$F$20:$F$200,$A19)+0,0)=0,9999,IFERROR(_xludf.MINIFS($K$20:$K$200,$F$20:$F$200,$A19)+0,0)),IF(IFERROR(_xludf.MINIFS($K$20:$K$200,$G$20:$G$200,$A19)+0,0)=0,9999,IFERROR(_xludf.MINIFS($K$20:$K$200,$G$20:$G$200,$A19)+0,0)))=9999,$D$5,MIN(IF(IFERROR(_xludf.MINIFS($K$20:$K$200,$E$20:$E$200,$A19)+0,0)=0,9999,IFERROR(_xludf.MINIFS($K$20:$K$200,$E$20:$E$200,$A19)+0,0)),IF(IFERROR(_xludf.MINIFS($K$20:$K$200,$F$20:$F$200,$A19)+0,0)=0,9999,IFERROR(_xludf.MINIFS($K$20:$K$200,$F$20:$F$200,$A19)+0,0)),IF(IFERROR(_xludf.MINIFS($K$20:$K$200,$G$20:$G$200,$A19)+0,0)=0,9999,IFERROR(_xludf.MINIFS($K$20:$K$200,$G$20:$G$200,$A19)+0,0)))-1)) -> 48 | M19: =IF($A19="","",$K19-$I19) -> 33 | N19: =IF($A19="","",IF($M19=0,"YES","")) | O19: =IF($A19="","",EDATE($D$3,$I19-1)) -> 46357 | P19: =IF($A19="","",EDATE($D$3,$J19-1)) -> 46447
A20: 13 | B20: Проєктування | C20: FEED + permitting design package | D20: 6 | E20: 12 | F20: 11 | I20: =IF($A20="","",MAX(1,1+MAX(IF($E20="",0,INDEX($J$8:$J$19,MATCH($E20,$A$8:$A$19,0))+0),IF($F20="",0,INDEX($J$8:$J$19,MATCH($F20,$A$8:$A$19,0))+0),IF($G20="",0,INDEX($J$8:$J$19,MATCH($G20,$A$8:$A$19,0))+0)))) -> 16 | J20: =IF($A20="","",$I20+$D20-1) -> 21 | K20: =IF($A20="","",$L20-$D20+1) -> 43 | L20: =IF($A20="","",IF(MIN(IF(IFERROR(_xludf.MINIFS($K$21:$K$200,$E$21:$E$200,$A20)+0,0)=0,9999,IFERROR(_xludf.MINIFS($K$21:$K$200,$E$21:$E$200,$A20)+0,0)),IF(IFERROR(_xludf.MINIFS($K$21:$K$200,$F$21:$F$200,$A20)+0,0)=0,9999,IFERROR(_xludf.MINIFS($K$21:$K$200,$F$21:$F$200,$A20)+0,0)),IF(IFERROR(_xludf.MINIFS($K$21:$K$200,$G$21:$G$200,$A20)+0,0)=0,9999,IFERROR(_xludf.MINIFS($K$21:$K$200,$G$21:$G$200,$A20)+0,0)))=9999,$D$5,MIN(IF(IFERROR(_xludf.MINIFS($K$21:$K$200,$E$21:$E$200,$A20)+0,0)=0,9999,IFERROR(_xludf.MINIFS($K$21:$K$200,$E$21:$E$200,$A20)+0,0)),IF(IFERROR(_xludf.MINIFS($K$21:$K$200,$F$21:$F$200,$A20)+0,0)=0,9999,IFERROR(_xludf.MINIFS($K$21:$K$200,$F$21:$F$200,$A20)+0,0)),IF(IFERROR(_xludf.MINIFS($K$21:$K$200,$G$21:$G$200,$A20)+0,0)=0,9999,IFERROR(_xludf.MINIFS($K$21:$K$200,$G$21:$G$200,$A20)+0,0)))-1)) -> 48 | M20: =IF($A20="","",$K20-$I20) -> 27 | N20: =IF($A20="","",IF($M20=0,"YES","")) | O20: =IF($A20="","",EDATE($D$3,$I20-1)) -> 46478 | P20: =IF($A20="","",EDATE($D$3,$J20-1)) -> 46631
A21: 14 | B21: Дозволи (ОВД) | C21: Permits finalization (based on OVD decision) | D21: 2 | E21: 9 | F21: 13 | I21: =IF($A21="","",MAX(1,1+MAX(IF($E21="",0,INDEX($J$8:$J$20,MATCH($E21,$A$8:$A$20,0))+0),IF($F21="",0,INDEX($J$8:$J$20,MATCH($F21,$A$8:$A$20,0))+0),IF($G21="",0,INDEX($J$8:$J$20,MATCH($G21,$A$8:$A$20,0))+0)))) -> 22 | J21: =IF($A21="","",$I21+$D21-1) -> 23 | K21: =IF($A21="","",$L21-$D21+1) -> 47 | L21: =IF($A21="","",IF(MIN(IF(IFERROR(_xludf.MINIFS($K$22:$K$200,$E$22:$E$200,$A21)+0,0)=0,9999,IFERROR(_xludf.MINIFS($K$22:$K$200,$E$22:$E$200,$A21)+0,0)),IF(IFERROR(_xludf.MINIFS($K$22:$K$200,$F$22:$F$200,$A21)+0,0)=0,9999,IFERROR(_xludf.MINIFS($K$22:$K$200,$F$22:$F$200,$A21)+0,0)),IF(IFERROR(_xludf.MINIFS($K$22:$K$200,$G$22:$G$200,$A21)+0,0)=0,9999,IFERROR(_xludf.MINIFS($K$22:$K$200,$G$22:$G$200,$A21)+0,0)))=9999,$D$5,MIN(IF(IFERROR(_xludf.MINIFS($K$22:$K$200,$E$22:$E$200,$A21)+0,0)=0,9999,IFERROR(_xludf.MINIFS($K$22:$K$200,$E$22:$E$200,$A21)+0,0)),IF(IFERROR(_xludf.MINIFS($K$22:$K$200,$F$22:$F$200,$A21)+0,0)=0,9999,IFERROR(_xludf.MINIFS($K$22:$K$200,$F$22:$F$200,$A21)+0,0)),IF(IFERROR(_xludf.MINIFS($K$22:$K$200,$G$22:$G$200,$A21)+0,0)=0,9999,IFERROR(_xludf.MINIFS($K$22:$K$200,$G$22:$G$200,$A21)+0,0)))-1)) -> 48 | M21: =IF($A21="","",$K21-$I21) -> 25 | N21: =IF($A21="","",IF($M21=0,"YES","")) | O21: =IF($A21="","",EDATE($D$3,$I21-1)) -> 46661 | P21: =IF($A21="","",EDATE($D$3,$J21-1)) -> 46692
A22: 15 | B22: Контракти | C22: Contracting (TSA/BoP/O&M/Insurance) | D22: 5 | E22: 12 | F22: 10 | I22: =IF($A22="","",MAX(1,1+MAX(IF($E22="",0,INDEX($J$8:$J$21,MATCH($E22,$A$8:$A$21,0))+0),IF($F22="",0,INDEX($J$8:$J$21,MATCH($F22,$A$8:$A$21,0))+0),IF($G22="",0,INDEX($J$8:$J$21,MATCH($G22,$A$8:$A$21,0))+0)))) -> 16 | J22: =IF($A22="","",$I22+$D22-1) -> 20 | K22: =IF($A22="","",$L22-$D22+1) -> 44 | L22: =IF($A22="","",IF(MIN(IF(IFERROR(_xludf.MINIFS($K$23:$K$200,$E$23:$E$200,$A22)+0,0)=0,9999,IFERROR(_xludf.MINIFS($K$23:$K$200,$E$23:$E$200,$A22)+0,0)),IF(IFERROR(_xludf.MINIFS($K$23:$K$200,$F$23:$F$200,$A22)+0,0)=0,9999,IFERROR(_xludf.MINIFS($K$23:$K$200,$F$23:$F$200,$A22)+0,0)),IF(IFERROR(_xludf.MINIFS($K$23:$K$200,$G$23:$G$200,$A22)+0,0)=0,9999,IFERROR(_xludf.MINIFS($K$23:$K$200,$G$23:$G$200,$A22)+0,0)))=9999,$D$5,MIN(IF(IFERROR(_xludf.MINIFS($K$23:$K$200,$E$23:$E$200,$A22)+0,0)=0,9999,IFERROR(_xludf.MINIFS($K$23:$K$200,$E$23:$E$200,$A22)+0,0)),IF(IFERROR(_xludf.MINIFS($K$23:$K$200,$F$23:$F$200,$A22)+0,0)=0,9999,IFERROR(_xludf.MINIFS($K$23:$K$200,$F$23:$F$200,$A22)+0,0)),IF(IFERROR(_xludf.MINIFS($K$23:$K$200,$G$23:$G$200,$A22)+0,0)=0,9999,IFERROR(_xludf.MINIFS($K$23:$K$200,$G$23:$G$200,$A22)+0,0)))-1)) -> 48 | M22: =IF($A22="","",$K22-$I22) -> 28 | N22: =IF($A22="","",IF($M22=0,"YES","")) | O22: =IF($A22="","",EDATE($D$3,$I22-1)) -> 46478 | P22: =IF($A22="","",EDATE($D$3,$J22-1)) -> 46600
A23: 16 | B23: Фінансування / FID | C23: Financing due diligence | D23: 6 | E23: 7 | F23: 10 | G23: 13 | I23: =IF($A23="","",MAX(1,1+MAX(IF($E23="",0,INDEX($J$8:$J$22,MATCH($E23,$A$8:$A$22,0))+0),IF($F23="",0,INDEX($J$8:$J$22,MATCH($F23,$A$8:$A$22,0))+0),IF($G23="",0,INDEX($J$8:$J$22,MATCH($G23,$A$8:$A$22,0))+0)))) -> 23 | J23: =IF($A23="","",$I23+$D23-1) -> 28 | K23: =IF($A23="","",$L23-$D23+1) -> 43 | L23: =IF($A23="","",IF(MIN(IF(IFERROR(_xludf.MINIFS($K$24:$K$200,$E$24:$E$200,$A23)+0,0)=0,9999,IFERROR(_xludf.MINIFS($K$24:$K$200,$E$24:$E$200,$A23)+0,0)),IF(IFERROR(_xludf.MINIFS($K$24:$K$200,$F$24:$F$200,$A23)+0,0)=0,9999,IFERROR(_xludf.MINIFS($K$24:$K$200,$F$24:$F$200,$A23)+0,0)),IF(IFERROR(_xludf.MINIFS($K$24:$K$200,$G$24:$G$200,$A23)+0,0)=0,9999,IFERROR(_xludf.MINIFS($K$24:$K$200,$G$24:$G$200,$A23)+0,0)))=9999,$D$5,MIN(IF(IFERROR(_xludf.MINIFS($K$24:$K$200,$E$24:$E$200,$A23)+0,0)=0,9999,IFERROR(_xludf.MINIFS($K$24:$K$200,$E$24:$E$200,$A23)+0,0)),IF(IFERROR(_xludf.MINIFS($K$24:$K$200,$F$24:$F$200,$A23)+0,0)=0,9999,IFERROR(_xludf.MINIFS($K$24:$K$200,$F$24:$F$200,$A23)+0,0)),IF(IFERROR(_xludf.MINIFS($K$24:$K$200,$G$24:$G$200,$A23)+0,0)=0,9999,IFERROR(_xludf.MINIFS($K$24:$K$200,$G$24:$G$200,$A23)+0,0)))-1)) -> 48 | M23: =IF($A23="","",$K23-$I23) -> 20 | N23: =IF($A23="","",IF($M23=0,"YES","")) | O23: =IF($A23="","",EDATE($D$3,$I23-1)) -> 46692 | P23: =IF($A23="","",EDATE($D$3,$J23-1)) -> 46844
A24: 17 | B24: Фінансування / FID | C24: Financial Close / FID | D24: 2 | E24: 16 | F24: 15 | G24: 14 | I24: =IF($A24="","",MAX(1,1+MAX(IF($E24="",0,INDEX($J$8:$J$23,MATCH($E24,$A$8:$A$23,0))+0),IF($F24="",0,INDEX($J$8:$J$23,MATCH($F24,$A$8:$A$23,0))+0),IF($G24="",0,INDEX($J$8:$J$23,MATCH($G24,$A$8:$A$23,0))+0)))) -> 29 | J24: =IF($A24="","",$I24+$D24-1) -> 30 | K24: =IF($A24="","",$L24-$D24+1) -> 47 | L24: =IF($A24="","",IF(MIN(IF(IFERROR(_xludf.MINIFS($K$25:$K$200,$E$25:$E$200,$A24)+0,0)=0,9999,IFERROR(_xludf.MINIFS($K$25:$K$200,$E$25:$E$200,$A24)+0,0)),IF(IFERROR(_xludf.MINIFS($K$25:$K$200,$F$25:$F$200,$A24)+0,0)=0,9999,IFERROR(_xludf.MINIFS($K$25:$K$200,$F$25:$F$200,$A24)+0,0)),IF(IFERROR(_xludf.MINIFS($K$25:$K$200,$G$25:$G$200,$A24)+0,0)=0,9999,IFERROR(_xludf.MINIFS($K$25:$K$200,$G$25:$G$200,$A24)+0,0)))=9999,$D$5,MIN(IF(IFERROR(_xludf.MINIFS($K$25:$K$200,$E$25:$E$200,$A24)+0,0)=0,9999,IFERROR(_xludf.MINIFS($K$25:$K$200,$E$25:$E$200,$A24)+0,0)),IF(IFERROR(_xludf.MINIFS($K$25:$K$200,$F$25:$F$200,$A24)+0,0)=0,9999,IFERROR(_xludf.MINIFS($K$25:$K$200,$F$25:$F$200,$A24)+0,0)),IF(IFERROR(_xludf.MINIFS($K$25:$K$200,$G$25:$G$200,$A24)+0,0)=0,9999,IFERROR(_xludf.MINIFS($K$25:$K$200,$G$25:$G$200,$A24)+0,0)))-1)) -> 48 | M24: =IF($A24="","",$K24-$I24) -> 18 | N24: =IF($A24="","",IF($M24=0,"YES","")) | O24: =IF($A24="","",EDATE($D$3,$I24-1)) -> 46874 | P24: =IF($A24="","",EDATE($D$3,$J24-1)) -> 46905
A25: 18 | B25: Проєктування | C25: Detailed design (post-FID) + expertise updates | D25: 5 | E25: 17 | F25: 13 | I25: =IF($A25="","",MAX(1,1+MAX(IF($E25="",0,INDEX($J$8:$J$24,MATCH($E25,$A$8:$A$24,0))+0),IF($F25="",0,INDEX($J$8:$J$24,MATCH($F25,$A$8:$A$24,0))+0),IF($G25="",0,INDEX($J$8:$J$24,MATCH($G25,$A$8:$A$24,0))+0)))) -> 31 | J25: =IF($A25="","",$I25+$D25-1) -> 35 | K25: =IF($A25="","",$L25-$D25+1) -> 44 | L25: =IF($A25="","",IF(MIN(IF(IFERROR(_xludf.MINIFS($K$26:$K$200,$E$26:$E$200,$A25)+0,0)=0,9999,IFERROR(_xludf.MINIFS($K$26:$K$200,$E$26:$E$200,$A25)+0,0)),IF(IFERROR(_xludf.MINIFS($K$26:$K$200,$F$26:$F$200,$A25)+0,0)=0,9999,IFERROR(_xludf.MINIFS($K$26:$K$200,$F$26:$F$200,$A25)+0,0)),IF(IFERROR(_xludf.MINIFS($K$26:$K$200,$G$26:$G$200,$A25)+0,0)=0,9999,IFERROR(_xludf.MINIFS($K$26:$K$200,$G$26:$G$200,$A25)+0,0)))=9999,$D$5,MIN(IF(IFERROR(_xludf.MINIFS($K$26:$K$200,$E$26:$E$200,$A25)+0,0)=0,9999,IFERROR(_xludf.MINIFS($K$26:$K$200,$E$26:$E$200,$A25)+0,0)),IF(IFERROR(_xludf.MINIFS($K$26:$K$200,$F$26:$F$200,$A25)+0,0)=0,9999,IFERROR(_xludf.MINIFS($K$26:$K$200,$F$26:$F$200,$A25)+0,0)),IF(IFERROR(_xludf.MINIFS($K$26:$K$200,$G$26:$G$200,$A25)+0,0)=0,9999,IFERROR(_xludf.MINIFS($K$26:$K$200,$G$26:$G$200,$A25)+0,0)))-1)) -> 48 | M25: =IF($A25="","",$K25-$I25) -> 13 | N25: =IF($A25="","",IF($M25=0,"YES","")) | O25: =IF($A25="","",EDATE($D$3,$I25-1)) -> 46935 | P25: =IF($A25="","",EDATE($D$3,$J25-1)) -> 47058
A26: 19 | B26: Підготовка майданчика | C26: Turbine manufacturing & logistics | D26: 7 | E26: 17 | I26: =IF($A26="","",MAX(1,1+MAX(IF($E26="",0,INDEX($J$8:$J$25,MATCH($E26,$A$8:$A$25,0))+0),IF($F26="",0,INDEX($J$8:$J$25,MATCH($F26,$A$8:$A$25,0))+0),IF($G26="",0,INDEX($J$8:$J$25,MATCH($G26,$A$8:$A$25,0))+0)))) -> 31 | J26: =IF($A26="","",$I26+$D26-1) -> 37 | K26: =IF($A26="","",$L26-$D26+1) -> 42 | L26: =IF($A26="","",IF(MIN(IF(IFERROR(_xludf.MINIFS($K$27:$K$200,$E$27:$E$200,$A26)+0,0)=0,9999,IFERROR(_xludf.MINIFS($K$27:$K$200,$E$27:$E$200,$A26)+0,0)),IF(IFERROR(_xludf.MINIFS($K$27:$K$200,$F$27:$F$200,$A26)+0,0)=0,9999,IFERROR(_xludf.MINIFS($K$27:$K$200,$F$27:$F$200,$A26)+0,0)),IF(IFERROR(_xludf.MINIFS($K$27:$K$200,$G$27:$G$200,$A26)+0,0)=0,9999,IFERROR(_xludf.MINIFS($K$27:$K$200,$G$27:$G$200,$A26)+0,0)))=9999,$D$5,MIN(IF(IFERROR(_xludf.MINIFS($K$27:$K$200,$E$27:$E$200,$A26)+0,0)=0,9999,IFERROR(_xludf.MINIFS($K$27:$K$200,$E$27:$E$200,$A26)+0,0)),IF(IFERROR(_xludf.MINIFS($K$27:$K$200,$F$27:$F$200,$A26)+0,0)=0,9999,IFERROR(_xludf.MINIFS($K$27:$K$200,$F$27:$F$200,$A26)+0,0)),IF(IFERROR(_xludf.MINIFS($K$27:$K$200,$G$27:$G$200,$A26)+0,0)=0,9999,IFERROR(_xludf.MINIFS($K$27:$K$200,$G$27:$G$200,$A26)+0,0)))-1)) -> 48 | M26: =IF($A26="","",$K26-$I26) -> 11 | N26: =IF($A26="","",IF($M26=0,"YES","")) | O26: =IF($A26="","",EDATE($D$3,$I26-1)) -> 46935 | P26: =IF($A26="","",EDATE($D$3,$J26-1)) -> 47119
A27: 20 | B27: Будівництво | C27: Site prep & enabling works | D27: 3 | E27: 17 | F27: 4 | I27: =IF($A27="","",MAX(1,1+MAX(IF($E27="",0,INDEX($J$8:$J$26,MATCH($E27,$A$8:$A$26,0))+0),IF($F27="",0,INDEX($J$8:$J$26,MATCH($F27,$A$8:$A$26,0))+0),IF($G27="",0,INDEX($J$8:$J$26,MATCH($G27,$A$8:$A$26,0))+0)))) -> 31 | J27: =IF($A27="","",$I27+$D27-1) -> 33 | K27: =IF($A27="","",$L27-$D27+1) -> 46 | L27: =IF($A27="","",IF(MIN(IF(IFERROR(_xludf.MINIFS($K$28:$K$200,$E$28:$E$200,$A27)+0,0)=0,9999,IFERROR(_xludf.MINIFS($K$28:$K$200,$E$28:$E$200,$A27)+0,0)),IF(IFERROR(_xludf.MINIFS($K$28:$K$200,$F$28:$F$200,$A27)+0,0)=0,9999,IFERROR(_xludf.MINIFS($K$28:$K$200,$F$28:$F$200,$A27)+0,0)),IF(IFERROR(_xludf.MINIFS($K$28:$K$200,$G$28:$G$200,$A27)+0,0)=0,9999,IFERROR(_xludf.MINIFS($K$28:$K$200,$G$28:$G$200,$A27)+0,0)))=9999,$D$5,MIN(IF(IFERROR(_xludf.MINIFS($K$28:$K$200,$E$28:$E$200,$A27)+0,0)=0,9999,IFERROR(_xludf.MINIFS($K$28:$K$200,$E$28:$E$200,$A27)+0,0)),IF(IFERROR(_xludf.MINIFS($K$28:$K$200,$F$28:$F$200,$A27)+0,0)=0,9999,IFERROR(_xludf.MINIFS($K$28:$K$200,$F$28:$F$200,$A27)+0,0)),IF(IFERROR(_xludf.MINIFS($K$28:$K$200,$G$28:$G$200,$A27)+0,0)=0,9999,IFERROR(_xludf.MINIFS($K$28:$K$200,$G$28:$G$200,$A27)+0,0)))-1)) -> 48 | M27: =IF($A27="","",$K27-$I27) -> 15 | N27: =IF($A27="","",IF($M27=0,"YES","")) | O27: =IF($A27="","",EDATE($D$3,$I27-1)) -> 46935 | P27: =IF($A27="","",EDATE($D$3,$J27-1)) -> 46997
A28: 21 | B28: Будівництво | C28: Civil works (roads/foundations) | D28: 5 | E28: 20 | I28: =IF($A28="","",MAX(1,1+MAX(IF($E28="",0,INDEX($J$8:$J$27,MATCH($E28,$A$8:$A$27,0))+0),IF($F28="",0,INDEX($J$8:$J$27,MATCH($F28,$A$8:$A$27,0))+0),IF($G28="",0,INDEX($J$8:$J$27,MATCH($G28,$A$8:$A$27,0))+0)))) -> 34 | J28: =IF($A28="","",$I28+$D28-1) -> 38 | K28: =IF($A28="","",$L28-$D28+1) -> 44 | L28: =IF($A28="","",IF(MIN(IF(IFERROR(_xludf.MINIFS($K$29:$K$200,$E$29:$E$200,$A28)+0,0)=0,9999,IFERROR(_xludf.MINIFS($K$29:$K$200,$E$29:$E$200,$A28)+0,0)),IF(IFERROR(_xludf.MINIFS($K$29:$K$200,$F$29:$F$200,$A28)+0,0)=0,9999,IFERROR(_xludf.MINIFS($K$29:$K$200,$F$29:$F$200,$A28)+0,0)),IF(IFERROR(_xludf.MINIFS($K$29:$K$200,$G$29:$G$200,$A28)+0,0)=0,9999,IFERROR(_xludf.MINIFS($K$29:$K$200,$G$29:$G$200,$A28)+0,0)))=9999,$D$5,MIN(IF(IFERROR(_xludf.MINIFS($K$29:$K$200,$E$29:$E$200,$A28)+0,0)=0,9999,IFERROR(_xludf.MINIFS($K$29:$K$200,$E$29:$E$200,$A28)+0,0)),IF(IFERROR(_xludf.MINIFS($K$29:$K$200,$F$29:$F$200,$A28)+0,0)=0,9999,IFERROR(_xludf.MINIFS($K$29:$K$200,$F$29:$F$200,$A28)+0,0)),IF(IFERROR(_xludf.MINIFS($K$29:$K$200,$G$29:$G$200,$A28)+0,0)=0,9999,IFERROR(_xludf.MINIFS($K$29:$K$200,$G$29:$G$200,$A28)+0,0)))-1)) -> 48 | M28: =IF($A28="","",$K28-$I28) -> 10 | N28: =IF($A28="","",IF($M28=0,"YES","")) | O28: =IF($A28="","",EDATE($D$3,$I28-1)) -> 47027 | P28: =IF($A28="","",EDATE($D$3,$J28-1)) -> 47150
A29: 22 | B29: Будівництво | C29: Electrical BoP (cables/substation) | D29: 6 | E29: 20 | F29: 18 | I29: =IF($A29="","",MAX(1,1+MAX(IF($E29="",0,INDEX($J$8:$J$28,MATCH($E29,$A$8:$A$28,0))+0),IF($F29="",0,INDEX($J$8:$J$28,MATCH($F29,$A$8:$A$28,0))+0),IF($G29="",0,INDEX($J$8:$J$28,MATCH($G29,$A$8:$A$28,0))+0)))) -> 36 | J29: =IF($A29="","",$I29+$D29-1) -> 41 | K29: =IF($A29="","",$L29-$D29+1) -> 43 | L29: =IF($A29="","",IF(MIN(IF(IFERROR(_xludf.MINIFS($K$30:$K$200,$E$30:$E$200,$A29)+0,0)=0,9999,IFERROR(_xludf.MINIFS($K$30:$K$200,$E$30:$E$200,$A29)+0,0)),IF(IFERROR(_xludf.MINIFS($K$30:$K$200,$F$30:$F$200,$A29)+0,0)=0,9999,IFERROR(_xludf.MINIFS($K$30:$K$200,$F$30:$F$200,$A29)+0,0)),IF(IFERROR(_xludf.MINIFS($K$30:$K$200,$G$30:$G$200,$A29)+0,0)=0,9999,IFERROR(_xludf.MINIFS($K$30:$K$200,$G$30:$G$200,$A29)+0,0)))=9999,$D$5,MIN(IF(IFERROR(_xludf.MINIFS($K$30:$K$200,$E$30:$E$200,$A29)+0,0)=0,9999,IFERROR(_xludf.MINIFS($K$30:$K$200,$E$30:$E$200,$A29)+0,0)),IF(IFERROR(_xludf.MINIFS($K$30:$K$200,$F$30:$F$200,$A29)+0,0)=0,9999,IFERROR(_xludf.MINIFS($K$30:$K$200,$F$30:$F$200,$A29)+0,0)),IF(IFERROR(_xludf.MINIFS($K$30:$K$200,$G$30:$G$200,$A29)+0,0)=0,9999,IFERROR(_xludf.MINIFS($K$30:$K$200,$G$30:$G$200,$A29)+0,0)))-1)) -> 48 | M29: =IF($A29="","",$K29-$I29) -> 7 | N29: =IF($A29="","",IF($M29=0,"YES","")) | O29: =IF($A29="","",EDATE($D$3,$I29-1)) -> 47088 | P29: =IF($A29="","",EDATE($D$3,$J29-1)) -> 47239
A30: 23 | B30: Пусконалагодження | C30: Turbine install & commissioning | D30: 3 | E30: 19 | F30: 21 | G30: 22 | I30: =IF($A30="","",MAX(1,1+MAX(IF($E30="",0,INDEX($J$8:$J$29,MATCH($E30,$A$8:$A$29,0))+0),IF($F30="",0,INDEX($J$8:$J$29,MATCH($F30,$A$8:$A$29,0))+0),IF($G30="",0,INDEX($J$8:$J$29,MATCH($G30,$A$8:$A$29,0))+0)))) -> 42 | J30: =IF($A30="","",$I30+$D30-1) -> 44 | K30: =IF($A30="","",$L30-$D30+1) -> 46 | L30: =IF($A30="","",IF(MIN(IF(IFERROR(_xludf.MINIFS($K$31:$K$200,$E$31:$E$200,$A30)+0,0)=0,9999,IFERROR(_xludf.MINIFS($K$31:$K$200,$E$31:$E$200,$A30)+0,0)),IF(IFERROR(_xludf.MINIFS($K$31:$K$200,$F$31:$F$200,$A30)+0,0)=0,9999,IFERROR(_xludf.MINIFS($K$31:$K$200,$F$31:$F$200,$A30)+0,0)),IF(IFERROR(_xludf.MINIFS($K$31:$K$200,$G$31:$G$200,$A30)+0,0)=0,9999,IFERROR(_xludf.MINIFS($K$31:$K$200,$G$31:$G$200,$A30)+0,0)))=9999,$D$5,MIN(IF(IFERROR(_xludf.MINIFS($K$31:$K$200,$E$31:$E$200,$A30)+0,0)=0,9999,IFERROR(_xludf.MINIFS($K$31:$K$200,$E$31:$E$200,$A30)+0,0)),IF(IFERROR(_xludf.MINIFS($K$31:$K$200,$F$31:$F$200,$A30)+0,0)=0,9999,IFERROR(_xludf.MINIFS($K$31:$K$200,$F$31:$F$200,$A30)+0,0)),IF(IFERROR(_xludf.MINIFS($K$31:$K$200,$G$31:$G$200,$A30)+0,0)=0,9999,IFERROR(_xludf.MINIFS($K$31:$K$200,$G$31:$G$200,$A30)+0,0)))-1)) -> 48 | M30: =IF($A30="","",$K30-$I30) -> 4 | N30: =IF($A30="","",IF($M30=0,"YES","")) | O30: =IF($A30="","",EDATE($D$3,$I30-1)) -> 47270 | P30: =IF($A30="","",EDATE($D$3,$J30-1)) -> 47331
A31: 24 | B31: Пусконалагодження | C31: Grid tests (PQ, protections, SCADA) | D31: 2 | E31: 23 | F31: 22 | I31: =IF($A31="","",MAX(1,1+MAX(IF($E31="",0,INDEX($J$8:$J$30,MATCH($E31,$A$8:$A$30,0))+0),IF($F31="",0,INDEX($J$8:$J$30,MATCH($F31,$A$8:$A$30,0))+0),IF($G31="",0,INDEX($J$8:$J$30,MATCH($G31,$A$8:$A$30,0))+0)))) -> 45 | J31: =IF($A31="","",$I31+$D31-1) -> 46 | K31: =IF($A31="","",$L31-$D31+1) -> 47 | L31: =IF($A31="","",IF(MIN(IF(IFERROR(_xludf.MINIFS($K$32:$K$200,$E$32:$E$200,$A31)+0,0)=0,9999,IFERROR(_xludf.MINIFS($K$32:$K$200,$E$32:$E$200,$A31)+0,0)),IF(IFERROR(_xludf.MINIFS($K$32:$K$200,$F$32:$F$200,$A31)+0,0)=0,9999,IFERROR(_xludf.MINIFS($K$32:$K$200,$F$32:$F$200,$A31)+0,0)),IF(IFERROR(_xludf.MINIFS($K$32:$K$200,$G$32:$G$200,$A31)+0,0)=0,9999,IFERROR(_xludf.MINIFS($K$32:$K$200,$G$32:$G$200,$A31)+0,0)))=9999,$D$5,MIN(IF(IFERROR(_xludf.MINIFS($K$32:$K$200,$E$32:$E$200,$A31)+0,0)=0,9999,IFERROR(_xludf.MINIFS($K$32:$K$200,$E$32:$E$200,$A31)+0,0)),IF(IFERROR(_xludf.MINIFS($K$32:$K$200,$F$32:$F$200,$A31)+0,0)=0,9999,IFERROR(_xludf.MINIFS($K$32:$K$200,$F$32:$F$200,$A31)+0,0)),IF(IFERROR(_xludf.MINIFS($K$32:$K$200,$G$32:$G$200,$A31)+0,0)=0,9999,IFERROR(_xludf.MINIFS($K$32:$K$200,$G$32:$G$200,$A31)+0,0)))-1)) -> 48 | M31: =IF($A31="","",$K31-$I31) -> 2 | N31: =IF($A31="","",IF($M31=0,"YES","")) | O31: =IF($A31="","",EDATE($D$3,$I31-1)) -> 47362 | P31: =IF($A31="","",EDATE($D$3,$J31-1)) -> 47392
A32: 25 | B32: Пусконалагодження | C32: Parallel operation acceptance (DSO) | D32: 1 | E32: 24 | I32: =IF($A32="","",MAX(1,1+MAX(IF($E32="",0,INDEX($J$8:$J$31,MATCH($E32,$A$8:$A$31,0))+0),IF($F32="",0,INDEX($J$8:$J$31,MATCH($F32,$A$8:$A$31,0))+0),IF($G32="",0,INDEX($J$8:$J$31,MATCH($G32,$A$8:$A$31,0))+0)))) -> 47 | J32: =IF($A32="","",$I32+$D32-1) -> 47 | K32: =IF($A32="","",$L32-$D32+1) -> 48 | L32: =IF($A32="","",IF(MIN(IF(IFERROR(_xludf.MINIFS($K$33:$K$200,$E$33:$E$200,$A32)+0,0)=0,9999,IFERROR(_xludf.MINIFS($K$33:$K$200,$E$33:$E$200,$A32)+0,0)),IF(IFERROR(_xludf.MINIFS($K$33:$K$200,$F$33:$F$200,$A32)+0,0)=0,9999,IFERROR(_xludf.MINIFS($K$33:$K$200,$F$33:$F$200,$A32)+0,0)),IF(IFERROR(_xludf.MINIFS($K$33:$K$200,$G$33:$G$200,$A32)+0,0)=0,9999,IFERROR(_xludf.MINIFS($K$33:$K$200,$G$33:$G$200,$A32)+0,0)))=9999,$D$5,MIN(IF(IFERROR(_xludf.MINIFS($K$33:$K$200,$E$33:$E$200,$A32)+0,0)=0,9999,IFERROR(_xludf.MINIFS($K$33:$K$200,$E$33:$E$200,$A32)+0,0)),IF(IFERROR(_xludf.MINIFS($K$33:$K$200,$F$33:$F$200,$A32)+0,0)=0,9999,IFERROR(_xludf.MINIFS($K$33:$K$200,$F$33:$F$200,$A32)+0,0)),IF(IFERROR(_xludf.MINIFS($K$33:$K$200,$G$33:$G$200,$A32)+0,0)=0,9999,IFERROR(_xludf.MINIFS($K$33:$K$200,$G$33:$G$200,$A32)+0,0)))-1)) -> 48 | M32: =IF($A32="","",$K32-$I32) -> 1 | N32: =IF($A32="","",IF($M32=0,"YES","")) | O32: =IF($A32="","",EDATE($D$3,$I32-1)) -> 47423 | P32: =IF($A32="","",EDATE($D$3,$J32-1)) -> 47423
A33: 26 | B33: Пусконалагодження | C33: COD | D33: 1 | E33: 25 | I33: =IF($A33="","",MAX(1,1+MAX(IF($E33="",0,INDEX($J$8:$J$32,MATCH($E33,$A$8:$A$32,0))+0),IF($F33="",0,INDEX($J$8:$J$32,MATCH($F33,$A$8:$A$32,0))+0),IF($G33="",0,INDEX($J$8:$J$32,MATCH($G33,$A$8:$A$32,0))+0)))) -> 48 | J33: =IF($A33="","",$I33+$D33-1) -> 48 | K33: =IF($A33="","",$L33-$D33+1) -> 48 | L33: =IF($A33="","",IF(MIN(IF(IFERROR(_xludf.MINIFS($K$34:$K$200,$E$34:$E$200,$A33)+0,0)=0,9999,IFERROR(_xludf.MINIFS($K$34:$K$200,$E$34:$E$200,$A33)+0,0)),IF(IFERROR(_xludf.MINIFS($K$34:$K$200,$F$34:$F$200,$A33)+0,0)=0,9999,IFERROR(_xludf.MINIFS($K$34:$K$200,$F$34:$F$200,$A33)+0,0)),IF(IFERROR(_xludf.MINIFS($K$34:$K$200,$G$34:$G$200,$A33)+0,0)=0,9999,IFERROR(_xludf.MINIFS($K$34:$K$200,$G$34:$G$200,$A33)+0,0)))=9999,$D$5,MIN(IF(IFERROR(_xludf.MINIFS($K$34:$K$200,$E$34:$E$200,$A33)+0,0)=0,9999,IFERROR(_xludf.MINIFS($K$34:$K$200,$E$34:$E$200,$A33)+0,0)),IF(IFERROR(_xludf.MINIFS($K$34:$K$200,$F$34:$F$200,$A33)+0,0)=0,9999,IFERROR(_xludf.MINIFS($K$34:$K$200,$F$34:$F$200,$A33)+0,0)),IF(IFERROR(_xludf.MINIFS($K$34:$K$200,$G$34:$G$200,$A33)+0,0)=0,9999,IFERROR(_xludf.MINIFS($K$34:$K$200,$G$34:$G$200,$A33)+0,0)))-1)) -> 48 | M33: =IF($A33="","",$K33-$I33) -> 0 | N33: =IF($A33="","",IF($M33=0,"YES","")) -> YES | O33: =IF($A33="","",EDATE($D$3,$I33-1)) -> 47453 | P33: =IF($A33="","",EDATE($D$3,$J33-1)) -> 47453

Sheet Gantt_48m
A1: Діаграма Ганта (48 місяців) — критичний шлях виділено
B2: Сірий: звичайна задача | C2: Червоний: критична задача | D2: Фініш (місяць №): | E2: =Tasks_CPM!$D$5 -> 48 | F2: Фініш (дата): | G2: =Tasks_CPM!$D$6 -> 47453
A4: ID | B4: Задача | C4: Фаза | D4: ES | E4: EF | F4: Критична? | G4: 1 | H4: 2 | I4: 3 | J4: 4 | K4: 5 | L4: 6 | M4: 7 | N4: 8 | O4: 9 | P4: 10 | Q4: 11 | R4: 12 | S4: 13 | T4: 14 | U4: 15 | V4: 16 | W4: 17 | X4: 18 | Y4: 19 | Z4: 20 | AA4: 21 | AB4: 22 | AC4: 23 | AD4: 24 | AE4: 25 | AF4: 26 | AG4: 27 | AH4: 28 | AI4: 29 | AJ4: 30 | AK4: 31 | AL4: 32 | AM4: 33 | AN4: 34 | AO4: 35 | AP4: 36 | AQ4: 37 | AR4: 38 | AS4: 39 | AT4: 40 | AU4: 41 | AV4: 42 | AW4: 43 | AX4: 44 | AY4: 45 | AZ4: 46 | BA4: 47 | BB4: 48
A5: =Tasks_CPM!A8 -> 1 | B5: =Tasks_CPM!C8 -> Strategy & screening | C5: =Tasks_CPM!B8 -> Ініціація | D5: =Tasks_CPM!I8 -> 1 | E5: =Tasks_CPM!J8 -> 2 | F5: =Tasks_CPM!N8 | G5: =IF(AND(G$4>=$D5,G$4<=$E5),IF($F5="YES",2,1),"") -> 1 | H5: =IF(AND(H$4>=$D5,H$4<=$E5),IF($F5="YES",2,1),"") -> 1 | I5: =IF(AND(I$4>=$D5,I$4<=$E5),IF($F5="YES",2,1),"") | J5: =IF(AND(J$4>=$D5,J$4<=$E5),IF($F5="YES",2,1),"") | K5: =IF(AND(K$4>=$D5,K$4<=$E5),IF($F5="YES",2,1),"") | L5: =IF(AND(L$4>=$D5,L$4<=$E5),IF($F5="YES",2,1),"") | M5: =IF(AND(M$4>=$D5,M$4<=$E5),IF($F5="YES",2,1),"") | N5: =IF(AND(N$4>=$D5,N$4<=$E5),IF($F5="YES",2,1),"") | ... BB5: =IF(AND(BB$4>=$D5,BB$4<=$E5),IF($F5="YES",2,1),"")
A6: =Tasks_CPM!A9 -> 2 | B6: =Tasks_CPM!C9 -> Grid pre-feasibility / capacity check | C6: =Tasks_CPM!B9 -> Ініціація | D6: =Tasks_CPM!I9 -> 3 | E6: =Tasks_CPM!J9 -> 4 | F6: =Tasks_CPM!N9 | G6: =IF(AND(G$4>=$D6,G$4<=$E6),IF($F6="YES",2,1),"") | H6: =IF(AND(H$4>=$D6,H$4<=$E6),IF($F6="YES",2,1),"") | I6: =IF(AND(I$4>=$D6,I$4<=$E6),IF($F6="YES",2,1),"") -> 1 | J6: =IF(AND(J$4>=$D6,J$4<=$E6),IF($F6="YES",2,1),"") -> 1 | K6: =IF(AND(K$4>=$D6,K$4<=$E6),IF($F6="YES",2,1),"") | L6: =IF(AND(L$4>=$D6,L$4<=$E6),IF($F6="YES",2,1),"") | M6: =IF(AND(M$4>=$D6,M$4<=$E6),IF($F6="YES",2,1),"") | N6: =IF(AND(N$4>=$D6,N$4<=$E6),IF($F6="YES",2,1),"") | ... BB6: =IF(AND(BB$4>=$D6,BB$4<=$E6),IF($F6="YES",2,1),"")
A7: =Tasks_CPM!A10 -> 3 | B7: =Tasks_CPM!C10 -> Land search & stakeholder mapping | C7: =Tasks_CPM!B10 -> Земля та виміри | D7: =Tasks_CPM!I10 -> 3 | E7: =Tasks_CPM!J10 -> 6 | F7: =Tasks_CPM!N10 | G7: =IF(AND(G$4>=$D7,G$4<=$E7),IF($F7="YES",2,1),"") | H7: =IF(AND(H$4>=$D7,H$4<=$E7),IF($F7="YES",2,1),"") | I7: =IF(AND(I$4>=$D7,I$4<=$E7),IF($F7="YES",2,1),"") -> 1 | J7: =IF(AND(J$4>=$D7,J$4<=$E7),IF($F7="YES",2,1),"") -> 1 | K7: =IF(AND(K$4>=$D7,K$4<=$E7),IF($F7="YES",2,1),"") -> 1 | L7: =IF(AND(L$4>=$D7,L$4<=$E7),IF($F7="YES",2,1),"") -> 1 | M7: =IF(AND(M$4>=$D7,M$4<=$E7),IF($F7="YES",2,1),"") | N7: =IF(AND(N$4>=$D7,N$4<=$E7),IF($F7="YES",2,1),"") | ... BB7: =IF(AND(BB$4>=$D7,BB$4<=$E7),IF($F7="YES",2,1),"")
A8: =Tasks_CPM!A11 -> 4 | B8: =Tasks_CPM!C11 -> Land control (leases/servitudes/superficies) | C8: =Tasks_CPM!B11 -> Земля та виміри | D8: =Tasks_CPM!I11 -> 7 | E8: =Tasks_CPM!J11 -> 11 | F8: =Tasks_CPM!N11 | G8: =IF(AND(G$4>=$D8,G$4<=$E8),IF($F8="YES",2,1),"") | H8: =IF(AND(H$4>=$D8,H$4<=$E8),IF($F8="YES",2,1),"") | I8: =IF(AND(I$4>=$D8,I$4<=$E8),IF($F8="YES",2,1),"") | J8: =IF(AND(J$4>=$D8,J$4<=$E8),IF($F8="YES",2,1),"") | K8: =IF(AND(K$4>=$D8,K$4<=$E8),IF($F8="YES",2,1),"") | L8: =IF(AND(L$4>=$D8,L$4<=$E8),IF($F8="YES",2,1),"") | M8: =IF(AND(M$4>=$D8,M$4<=$E8),IF($F8="YES",2,1),"") -> 1 | N8: =IF(AND(N$4>=$D8,N$4<=$E8),IF($F8="YES",2,1),"") -> 1 | ... BB8: =IF(AND(BB$4>=$D8,BB$4<=$E8),IF($F8="YES",2,1),"")
A9: =Tasks_CPM!A12 -> 5 | B9: =Tasks_CPM!C12 -> Wind measurement setup (mast/LiDAR) | C9: =Tasks_CPM!B12 -> Земля та виміри | D9: =Tasks_CPM!I12 -> 7 | E9: =Tasks_CPM!J12 -> 8 | F9: =Tasks_CPM!N12 | G9: =IF(AND(G$4>=$D9,G$4<=$E9),IF($F9="YES",2,1),"") | H9: =IF(AND(H$4>=$D9,H$4<=$E9),IF($F9="YES",2,1),"") | I9: =IF(AND(I$4>=$D9,I$4<=$E9),IF($F9="YES",2,1),"") | J9: =IF(AND(J$4>=$D9,J$4<=$E9),IF($F9="YES",2,1),"") | K9: =IF(AND(K$4>=$D9,K$4<=$E9),IF($F9="YES",2,1),"") | L9: =IF(AND(L$4>=$D9,L$4<=$E9),IF($F9="YES",2,1),"") | M9: =IF(AND(M$4>=$D9,M$4<=$E9),IF($F9="YES",2,1),"") -> 1 | N9: =IF(AND(N$4>=$D9,N$4<=$E9),IF($F9="YES",2,1),"") -> 1 | ... BB9: =IF(AND(BB$4>=$D9,BB$4<=$E9),IF($F9="YES",2,1),"")
A10: =Tasks_CPM!A13 -> 6 | B10: =Tasks_CPM!C13 -> Wind measurement campaign | C10: =Tasks_CPM!B13 -> Вітроресурс | D10: =Tasks_CPM!I13 -> 9 | E10: =Tasks_CPM!J13 -> 20 | F10: =Tasks_CPM!N13 | G10: =IF(AND(G$4>=$D10,G$4<=$E10),IF($F10="YES",2,1),"") | H10: =IF(AND(H$4>=$D10,H$4<=$E10),IF($F10="YES",2,1),"") | I10: =IF(AND(I$4>=$D10,I$4<=$E10),IF($F10="YES",2,1),"") | J10: =IF(AND(J$4>=$D10,J$4<=$E10),IF($F10="YES",2,1),"") | K10: =IF(AND(K$4>=$D10,K$4<=$E10),IF($F10="YES",2,1),"") | L10: =IF(AND(L$4>=$D10,L$4<=$E10),IF($F10="YES",2,1),"") | M10: =IF(AND(M$4>=$D10,M$4<=$E10),IF($F10="YES",2,1),"") | N10: =IF(AND(N$4>=$D10,N$4<=$E10),IF($F10="YES",2,1),"") | ... BB10: =IF(AND(BB$4>=$D10,BB$4<=$E10),IF($F10="YES",2,1),"")
A11: =Tasks_CPM!A14 -> 7 | B11: =Tasks_CPM!C14 -> Bankable Energy Yield Assessment (P50/P90) | C11: =Tasks_CPM!B14 -> Вітроресурс | D11: =Tasks_CPM!I14 -> 21 | E11: =Tasks_CPM!J14 -> 22 | F11: =Tasks_CPM!N14 | G11: =IF(AND(G$4>=$D11,G$4<=$E11),IF($F11="YES",2,1),"") | H11: =IF(AND(H$4>=$D11,H$4<=$E11),IF($F11="YES",2,1),"") | I11: =IF(AND(I$4>=$D11,I$4<=$E11),IF($F11="YES",2,1),"") | J11: =IF(AND(J$4>=$D11,J$4<=$E11),IF($F11="YES",2,1),"") | K11: =IF(AND(K$4>=$D11,K$4<=$E11),IF($F11="YES",2,1),"") | L11: =IF(AND(L$4>=$D11,L$4<=$E11),IF($F11="YES",2,1),"") | M11: =IF(AND(M$4>=$D11,M$4<=$E11),IF($F11="YES",2,1),"") | N11: =IF(AND(N$4>=$D11,N$4<=$E11),IF($F11="YES",2,1),"") | ... BB11: =IF(AND(BB$4>=$D11,BB$4<=$E11),IF($F11="YES",2,1),"")
A12: =Tasks_CPM!A15 -> 8 | B12: =Tasks_CPM!C15 -> Environmental baseline studies | C12: =Tasks_CPM!B15 -> Дозволи (ОВД) | D12: =Tasks_CPM!I15 -> 7 | E12: =Tasks_CPM!J15 -> 8 | F12: =Tasks_CPM!N15 | G12: =IF(AND(G$4>=$D12,G$4<=$E12),IF($F12="YES",2,1),"") | H12: =IF(AND(H$4>=$D12,H$4<=$E12),IF($F12="YES",2,1),"") | I12: =IF(AND(I$4>=$D12,I$4<=$E12),IF($F12="YES",2,1),"") | J12: =IF(AND(J$4>=$D12,J$4<=$E12),IF($F12="YES",2,1),"") | K12: =IF(AND(K$4>=$D12,K$4<=$E12),IF($F12="YES",2,1),"") | L12: =IF(AND(L$4>=$D12,L$4<=$E12),IF($F12="YES",2,1),"") | M12: =IF(AND(M$4>=$D12,M$4<=$E12),IF($F12="YES",2,1),"") -> 1 | N12: =IF(AND(N$4>=$D12,N$4<=$E12),IF($F12="YES",2,1),"") -> 1 | ... BB12: =IF(AND(BB$4>=$D12,BB$4<=$E12),IF($F12="YES",2,1),"")
A13: =Tasks_CPM!A16 -> 9 | B13: =Tasks_CPM!C16 -> OVD / EIA process (incl. hearings) | C13: =Tasks_CPM!B16 -> Дозволи (ОВД) | D13: =Tasks_CPM!I16 -> 9 | E13: =Tasks_CPM!J16 -> 14 | F13: =Tasks_CPM!N16 | G13: =IF(AND(G$4>=$D13,G$4<=$E13),IF($F13="YES",2,1),"") | H13: =IF(AND(H$4>=$D13,H$4<=$E13),IF($F13="YES",2,1),"") | I13: =IF(AND(I$4>=$D13,I$4<=$E13),IF($F13="YES",2,1),"") | J13: =IF(AND(J$4>=$D13,J$4<=$E13),IF($F13="YES",2,1),"") | K13: =IF(AND(K$4>=$D13,K$4<=$E13),IF($F13="YES",2,1),"") | L13: =IF(AND(L$4>=$D13,L$4<=$E13),IF($F13="YES",2,1),"") | M13: =IF(AND(M$4>=$D13,M$4<=$E13),IF($F13="YES",2,1),"") | N13: =IF(AND(N$4>=$D13,N$4<=$E13),IF($F13="YES",2,1),"") | ... BB13: =IF(AND(BB$4>=$D13,BB$4<=$E13),IF($F13="YES",2,1),"")
A14: =Tasks_CPM!A17 -> 10 | B14: =Tasks_CPM!C17 -> Connection application & Technical Conditions (TU) | C14: =Tasks_CPM!B17 -> Приєднання до мережі | D14: =Tasks_CPM!I17 -> 7 | E14: =Tasks_CPM!J17 -> 11 | F14: =Tasks_CPM!N17 | G14: =IF(AND(G$4>=$D14,G$4<=$E14),IF($F14="YES",2,1),"") | H14: =IF(AND(H$4>=$D14,H$4<=$E14),IF($F14="YES",2,1),"") | I14: =IF(AND(I$4>=$D14,I$4<=$E14),IF($F14="YES",2,1),"") | J14: =IF(AND(J$4>=$D14,J$4<=$E14),IF($F14="YES",2,1),"") | K14: =IF(AND(K$4>=$D14,K$4<=$E14),IF($F14="YES",2,1),"") | L14: =IF(AND(L$4>=$D14,L$4<=$E14),IF($F14="YES",2,1),"") | M14: =IF(AND(M$4>=$D14,M$4<=$E14),IF($F14="YES",2,1),"") -> 1 | N14: =IF(AND(N$4>=$D14,N$4<=$E14),IF($F14="YES",2,1),"") -> 1 | ... BB14: =IF(AND(BB$4>=$D14,BB$4<=$E14),IF($F14="YES",2,1),"")
A15: =Tasks_CPM!A18 -> 11 | B15: =Tasks_CPM!C18 -> Connection concept design (single-line, PCC) | C15: =Tasks_CPM!B18 -> Приєднання до мережі | D15: =Tasks_CPM!I18 -> 12 | E15: =Tasks_CPM!J18 -> 14 | F15: =Tasks_CPM!N18 | G15: =IF(AND(G$4>=$D15,G$4<=$E15),IF($F15="YES",2,1),"") | H15: =IF(AND(H$4>=$D15,H$4<=$E15),IF($F15="YES",2,1),"") | I15: =IF(AND(I$4>=$D15,I$4<=$E15),IF($F15="YES",2,1),"") | J15: =IF(AND(J$4>=$D15,J$4<=$E15),IF($F15="YES",2,1),"") | K15: =IF(AND(K$4>=$D15,K$4<=$E15),IF($F15="YES",2,1),"") | L15: =IF(AND(L$4>=$D15,L$4<=$E15),IF($F15="YES",2,1),"") | M15: =IF(AND(M$4>=$D15,M$4<=$E15),IF($F15="YES",2,1),"") | N15: =IF(AND(N$4>=$D15,N$4<=$E15),IF($F15="YES",2,1),"") | ... BB15: =IF(AND(BB$4>=$D15,BB$4<=$E15),IF($F15="YES",2,1),"")
A16: =Tasks_CPM!A19 -> 12 | B16: =Tasks_CPM!C19 -> Concept layout & pre-FEED design | C16: =Tasks_CPM!B19 -> Проєктування | D16: =Tasks_CPM!I19 -> 12 | E16: =Tasks_CPM!J19 -> 15 | F16: =Tasks_CPM!N19 | G16: =IF(AND(G$4>=$D16,G$4<=$E16),IF($F16="YES",2,1),"") | H16: =IF(AND(H$4>=$D16,H$4<=$E16),IF($F16="YES",2,1),"") | I16: =IF(AND(I$4>=$D16,I$4<=$E16),IF($F16="YES",2,1),"") | J16: =IF(AND(J$4>=$D16,J$4<=$E16),IF($F16="YES",2,1),"") | K16: =IF(AND(K$4>=$D16,K$4<=$E16),IF($F16="YES",2,1),"") | L16: =IF(AND(L$4>=$D16,L$4<=$E16),IF($F16="YES",2,1),"") | M16: =IF(AND(M$4>=$D16,M$4<=$E16),IF($F16="YES",2,1),"") | N16: =IF(AND(N$4>=$D16,N$4<=$E16),IF($F16="YES",2,1),"") | ... BB16: =IF(AND(BB$4>=$D16,BB$4<=$E16),IF($F16="YES",2,1),"")
... A30: =Tasks_CPM!A33 -> 26 | B30: =Tasks_CPM!C33 -> COD | C30: =Tasks_CPM!B33 -> Пусконалагодження | D30: =Tasks_CPM!I33 -> 48 | E30: =Tasks_CPM!J33 -> 48 | F30: =Tasks_CPM!N33 -> YES | G30: =IF(AND(G$4>=$D30,G$4<=$E30),IF($F30="YES",2,1),"") | H30: =IF(AND(H$4>=$D30,H$4<=$E30),IF($F30="YES",2,1),"") | I30: =IF(AND(I$4>=$D30,I$4<=$E30),IF($F30="YES",2,1),"") | J30: =IF(AND(J$4>=$D30,J$4<=$E30),IF($F30="YES",2,1),"") | K30: =IF(AND(K$4>=$D30,K$4<=$E30),IF($F30="YES",2,1),"") | L30: =IF(AND(L$4>=$D30,L$4<=$E30),IF($F30="YES",2,1),"") | M30: =IF(AND(M$4>=$D30,M$4<=$E30),IF($F30="YES",2,1),"") | N30: =IF(AND(N$4>=$D30,N$4<=$E30),IF($F30="YES",2,1),"") | ... BB30: =IF(AND(BB$4>=$D30,BB$4<=$E30),IF($F30="YES",2,1),"") -> 2

Sheet Legend
A1: Легенда скорочень та правила користування
A3: Скорочення | B3: Англійською (повна назва) | C3: Українською (переклад) | D3: Примітка
A4: CPM | B4: Critical Path Method | C4: Метод критичного шляху | D4: Розрахунок ранніх/пізніх дат та запасу часу.
A5: ES/EF | B5: Early Start / Early Finish | C5: Ранній старт / раннє закінчення | D5: Прямий прохід по залежностях.
A6: LS/LF | B6: Late Start / Late Finish | C6: Пізній старт / пізнє закінчення | D6: Зворотний прохід від фінішу проєкту.
A7: Float | B7: Total Float | C7: Запас часу | D7: 0 означає критичний шлях.
A8: ОВД | B8: Environmental Impact Assessment | C8: Оцінка впливу на довкілля | D8: Часто є на критичному шляху.
A9: ТУ | B9: Technical Conditions | C9: Технічні умови приєднання | D9: Вихідний документ оператора мережі.
A10: FID | B10: Final Investment Decision | C10: Остаточне інвестиційне рішення | D10: Точка старту закупівель/будівництва.
A11: TSA | B11: Turbine Supply Agreement | C11: Договір постачання турбін | D11: Ключовий контракт із виробником.
A12: BoP | B12: Balance of Plant | C12: Будівельна частина | D12: Дороги, фундаменти, кабелі, підстанція.
A13: O&M | B13: Operation and Maintenance | C13: Експлуатація та технічне обслуговування | D13: Контракт на сервіс після COD.
A14: COD | B14: Commercial Operation Date | C14: Дата початку комерційної експлуатації | D14: Початок комерційної генерації.
